BEGIN:VCALENDAR
VERSION:2.0
PRODID:-//Oakstrong Martial Arts - ECPv6.15.20//NONSGML v1.0//EN
CALSCALE:GREGORIAN
METHOD:PUBLISH
X-WR-CALNAME:Oakstrong Martial Arts
X-ORIGINAL-URL:https://www.oakstrong.net
X-WR-CALDESC:Events for Oakstrong Martial Arts
REFRESH-INTERVAL;VALUE=DURATION:PT1H
X-Robots-Tag:noindex
X-PUBLISHED-TTL:PT1H
BEGIN:VTIMEZONE
TZID:America/Los_Angeles
BEGIN:DAYLIGHT
TZOFFSETFROM:-0800
TZOFFSETTO:-0700
TZNAME:PDT
DTSTART:20250309T100000
END:DAYLIGHT
BEGIN:STANDARD
TZOFFSETFROM:-0700
TZOFFSETTO:-0800
TZNAME:PST
DTSTART:20251102T090000
END:STANDARD
BEGIN:DAYLIGHT
TZOFFSETFROM:-0800
TZOFFSETTO:-0700
TZNAME:PDT
DTSTART:20260308T100000
END:DAYLIGHT
BEGIN:STANDARD
TZOFFSETFROM:-0700
TZOFFSETTO:-0800
TZNAME:PST
DTSTART:20261101T090000
END:STANDARD
BEGIN:DAYLIGHT
TZOFFSETFROM:-0800
TZOFFSETTO:-0700
TZNAME:PDT
DTSTART:20270314T100000
END:DAYLIGHT
BEGIN:STANDARD
TZOFFSETFROM:-0700
TZOFFSETTO:-0800
TZNAME:PST
DTSTART:20271107T090000
END:STANDARD
END:VTIMEZONE
BEGIN:VEVENT
DTSTART;TZID=America/Los_Angeles:20260423T173000
DTEND;TZID=America/Los_Angeles:20260423T190000
DTSTAMP:20260423T033133
CREATED:20211114T200521Z
LAST-MODIFIED:20260406T230859Z
UID:4686-1776965400-1776970800@www.oakstrong.net
SUMMARY:Basic Karate & Self-Defense
DESCRIPTION:Excellent for those wishing to learn core karate skills\, self-defense strategies / techniques\, and qigong exercises… a 90-minute workout with great people. \nOur instruction employs various formats to teach skills in a highly controlled\, super-safe and noncompetitive environment. Go to The Art page for more on our teachings and check out Class Descriptions for specifics. \nBeginners welcome any time – your first class is free. \nWe look forward to seeing you!
URL:https://www.oakstrong.net/event/class-schedule-great-workout-insightful-teachings-14/
LOCATION:Felton Community Hall\, 6191 Highway 9\, Felton\, CA\, 95018
ORGANIZER;CN="Kyo Sa Neville Loberg":MAILTO:loberg@oakstrong.net
END:VEVENT
END:VCALENDAR